BEGIN:VCALENDAR
PRODID:brasil.gov.agenda
VERSION:1.0
BEGIN:VEVENT
DTSTART:20181010T132900Z
DTEND:20181011T192900Z
DCREATED:20171220T163027Z
UID:Compromisso-7b556fe77f7043cc9ae782fc04ddab72
SEQUENCE:0
LAST-MODIFIED:20171220T163027Z
SUMMARY:SRHidro 2018
PRIORITY:3
TRANSP:0
END:VEVENT
END:VCALENDAR
