BEGIN:VCALENDAR
PRODID:brasil.gov.agenda
VERSION:1.0
BEGIN:VEVENT
DTSTART:20180816T110000Z
DTEND:20180816T170000Z
DCREATED:20180605T143532Z
UID:Compromisso-1d29746509ab49f0bffd79b191927fd3
SEQUENCE:0
LAST-MODIFIED:20180605T143532Z
SUMMARY:Matrícula dos candidatos reclassificados PPEA 2018
LOCATION:Campus Macaé
PRIORITY:3
TRANSP:0
END:VEVENT
END:VCALENDAR
