BEGIN:VCALENDAR
PRODID:brasil.gov.agenda
VERSION:1.0
BEGIN:VEVENT
DTSTART:20180816T180000Z
DTEND:20180816T203600Z
DCREATED:20180605T143704Z
UID:Compromisso-8c5ed1a5897f4eaf818e1b619535444c
SEQUENCE:0
LAST-MODIFIED:20180605T143704Z
SUMMARY:Aula inaugural PPEA 2018
LOCATION:Campus Macaé
PRIORITY:3
TRANSP:0
END:VEVENT
END:VCALENDAR
