BEGIN:VCALENDAR
PRODID:brasil.gov.agenda
VERSION:1.0
BEGIN:VEVENT
DTSTART:20180809T112800Z
DTEND:20180810T180000Z
DCREATED:20180605T143147Z
UID:Compromisso-cead716e50b8486987c29c40015d6528
SEQUENCE:0
LAST-MODIFIED:20180605T143147Z
SUMMARY:Matrícula dos candidatos selecionados PPEA 2018
LOCATION:Campus Macaé
PRIORITY:3
TRANSP:0
END:VEVENT
END:VCALENDAR
