BEGIN:VCALENDAR
PRODID:brasil.gov.agenda
VERSION:1.0
BEGIN:VEVENT
DTSTART:20180803T202600Z
DTEND:20180803T152600Z
DCREATED:20180605T142714Z
UID:Compromisso-c6065a7204c84d648e8833f51906f691
SEQUENCE:0
LAST-MODIFIED:20180605T142714Z
SUMMARY:Resultado final PPEA 2018
LOCATION:http://selecoes.iff.edu.br/pos-graduacao/2018/ppea
PRIORITY:3
TRANSP:0
END:VEVENT
END:VCALENDAR
