BEGIN:VCALENDAR
PRODID:brasil.gov.agenda
VERSION:1.0
BEGIN:VEVENT
DTSTART:20180803T160900Z
DTEND:20180803T180900Z
DCREATED:20180716T131208Z
UID:Compromisso-0355c27ba7ce44f787e6a7348cd69d2d
SEQUENCE:0
LAST-MODIFIED:20180716T131208Z
SUMMARY:Qualificação de Antônio Vinícius Mafort
DESCRIPTION:INDICADORES DE SUSTENTABILIDADE APLICADOS A REGIÕES ESTUA
 RINAS: UTILIZAÇÃO DA METODOLOGIA DE AVALIAÇÃO DE PROSPERABILIDADE 
 NA ZONA COSTEIRA DA REGIÃO HIDROGRÁFICA VIII DO ESTADO DO RIO DE JAN
 EIRO
LOCATION:Vidoconferência PPEA Campus Macaé
PRIORITY:3
TRANSP:0
END:VEVENT
END:VCALENDAR
