BEGIN:VCALENDAR
PRODID:brasil.gov.agenda
VERSION:1.0
BEGIN:VEVENT
DTSTART:20180731T122400Z
DTEND:20180731T210000Z
DCREATED:20180605T142542Z
UID:Compromisso-79b2797c5f4e4abf93f3b955fa735ecd
SEQUENCE:0
LAST-MODIFIED:20180605T142542Z
SUMMARY:Recursos da segunda etapa PPEA 2018
LOCATION:Protocolo do Campus Macaé
PRIORITY:3
TRANSP:0
END:VEVENT
END:VCALENDAR
