BEGIN:VCALENDAR
PRODID:brasil.gov.agenda
VERSION:1.0
BEGIN:VEVENT
DTSTART:20180730T202300Z
DTEND:20180630T152300Z
DCREATED:20180605T142355Z
UID:Compromisso-de02ec2f4e094e59a06b9dd25022d9fd
SEQUENCE:0
LAST-MODIFIED:20180605T142355Z
SUMMARY:Resultado preliminar da segunda etapa
LOCATION:http://selecoes.iff.edu.br/pos-graduacao/2018/ppea
PRIORITY:3
TRANSP:0
END:VEVENT
END:VCALENDAR
