BEGIN:VCALENDAR
PRODID:brasil.gov.agenda
VERSION:1.0
BEGIN:VEVENT
DTSTART:20180727T171300Z
DTEND:20180727T191300Z
DCREATED:20180716T131437Z
UID:Compromisso-68ba6c75a0a545458e89c3572042621c
SEQUENCE:0
LAST-MODIFIED:20180716T131437Z
SUMMARY:Qualificação de Bruno Rangel
DESCRIPTION:"ACCOUNTABILITY NA GESTÃO DE RECURSOS HÍDRICOS: O ESTUDO
  DE CASO NO COMITÊ BAIXO PARAÍBA DO SUL E ITABAPOANA"
LOCATION:Campus Centro
PRIORITY:3
TRANSP:0
END:VEVENT
END:VCALENDAR
