BEGIN:VCALENDAR
PRODID:brasil.gov.agenda
VERSION:1.0
BEGIN:VEVENT
DTSTART:20180719T122000Z
DTEND:20180720T182000Z
DCREATED:20180605T142135Z
UID:Compromisso-71e5badd686a4af7a4b562c89874ca3c
SEQUENCE:0
LAST-MODIFIED:20180605T142135Z
SUMMARY:Realização das entrevistas
LOCATION:Campus Macaé
PRIORITY:3
TRANSP:0
END:VEVENT
END:VCALENDAR
