BEGIN:VCALENDAR
PRODID:brasil.gov.agenda
VERSION:1.0
BEGIN:VEVENT
DTSTART:20180716T201800Z
DTEND:20180716T151800Z
DCREATED:20180605T141931Z
UID:Compromisso-c5f0fc961ce4407e9ee2a4e42543e762
SEQUENCE:0
LAST-MODIFIED:20180605T141931Z
SUMMARY:Divulgação dos horários das entrevistas PPEA 2018
LOCATION:http://selecoes.iff.edu.br/pos-graduacao/2018/ppea
PRIORITY:3
TRANSP:0
END:VEVENT
END:VCALENDAR
