BEGIN:VCALENDAR
PRODID:brasil.gov.agenda
VERSION:1.0
BEGIN:VEVENT
DTSTART:20180712T121600Z
DTEND:20180713T210000Z
DCREATED:20180605T141731Z
UID:Compromisso-5b9c1c49202d4592975d9d6667daf9ef
SEQUENCE:0
LAST-MODIFIED:20180605T141731Z
SUMMARY:Entrega da documentação complementar para a segunda etapa PPEA 2018
LOCATION:Protocolo do Campus Macaé
PRIORITY:3
TRANSP:0
END:VEVENT
END:VCALENDAR
