BEGIN:VCALENDAR
PRODID:brasil.gov.agenda
VERSION:1.0
BEGIN:VEVENT
DTSTART:20180706T201400Z
DTEND:20180706T151400Z
DCREATED:20180605T141545Z
UID:Compromisso-be5a8d67d9ca457d8cb10f572933f1af
SEQUENCE:0
LAST-MODIFIED:20180605T141545Z
SUMMARY:Resultado do recurso da primeira etapa PPEA 2018
LOCATION:http://selecoes.iff.edu.br/pos-graduacao/2018/ppea
PRIORITY:3
TRANSP:0
END:VEVENT
END:VCALENDAR
