BEGIN:VCALENDAR
PRODID:brasil.gov.agenda
VERSION:1.0
BEGIN:VEVENT
DTSTART:20180706T110000Z
DTEND:20180706T160000Z
DCREATED:20180705T133318Z
UID:Compromisso-d2b488bdea2e43d0b9584bdf67996864
SEQUENCE:0
LAST-MODIFIED:20180705T133318Z
SUMMARY:Funcionamento da secretaria do PPEA
PRIORITY:3
TRANSP:0
END:VEVENT
END:VCALENDAR
