BEGIN:VCALENDAR
PRODID:brasil.gov.agenda
VERSION:1.0
BEGIN:VEVENT
DTSTART:20180704T170000Z
DTEND:20180704T181900Z
DCREATED:20180627T122111Z
UID:Compromisso-8e4c46af02f349dfa06cfa05eb915d1b
SEQUENCE:0
LAST-MODIFIED:20180627T122111Z
SUMMARY:Qualificação de Delano Pacheco
DESCRIPTION:ASPECTOS ECONÔMICOS\, ESPACIAIS E AMBIENTAIS DO ARRANJO P
 RODUTIVO DE ROCHAS\nORNAMENTAIS SANTO ANTONIO DE PÁDUA
LOCATION:Campus Centro
PRIORITY:3
TRANSP:0
END:VEVENT
END:VCALENDAR
