BEGIN:VCALENDAR
PRODID:brasil.gov.agenda
VERSION:1.0
BEGIN:VEVENT
DTSTART:20180702T121300Z
DTEND:20180702T210000Z
DCREATED:20180605T141421Z
UID:Compromisso-b1b718968aff4e989da9b5617f2d7ba6
SEQUENCE:0
LAST-MODIFIED:20180605T141421Z
SUMMARY:Recursos da primeira etapa PPEA 2018
LOCATION:Protocolo do Campus Macaé
PRIORITY:3
TRANSP:0
END:VEVENT
END:VCALENDAR
