BEGIN:VCALENDAR
PRODID:brasil.gov.agenda
VERSION:1.0
BEGIN:VEVENT
DTSTART:20180629T201100Z
DTEND:20180629T151100Z
DCREATED:20180605T141221Z
UID:Compromisso-4e08da7502ed470cad5450f8503074ab
SEQUENCE:0
LAST-MODIFIED:20180605T141221Z
SUMMARY:Resultado preliminar da primeira etapa
PRIORITY:3
TRANSP:0
END:VEVENT
END:VCALENDAR
