BEGIN:VCALENDAR
PRODID:brasil.gov.agenda
VERSION:1.0
BEGIN:VEVENT
DTSTART:20180628T111400Z
DTEND:20180628T211400Z
DCREATED:20180615T132147Z
UID:Compromisso-b7517b527c3349d0abf737cf915b7ac0
SEQUENCE:0
LAST-MODIFIED:20180615T132312Z
SUMMARY:Congresso Fluminense de Pós-Graduação
DESCRIPTION:Apresentação de trabalhos e reunião do Colegiado do PPE
 A.
LOCATION:Campos dos Goytacazes
PRIORITY:3
TRANSP:0
END:VEVENT
END:VCALENDAR
