BEGIN:VCALENDAR
PRODID:brasil.gov.agenda
VERSION:1.0
BEGIN:VEVENT
DTSTART:20180627T110000Z
DTEND:20180627T160000Z
DCREATED:20180615T134540Z
UID:Compromisso-79e7f9be47dc46e0b63653daf23a6f69
SEQUENCE:0
LAST-MODIFIED:20180615T134540Z
SUMMARY:Funcionamento da secretaria do PPEA
PRIORITY:3
TRANSP:0
END:VEVENT
END:VCALENDAR
