BEGIN:VCALENDAR
PRODID:brasil.gov.agenda
VERSION:1.0
BEGIN:VEVENT
DTSTART:20180626T170000Z
DTEND:20180626T184500Z
DCREATED:20180619T134737Z
UID:Compromisso-68290f9fdfc24f9cba82693a7e7de0bc
SEQUENCE:0
LAST-MODIFIED:20180619T134738Z
SUMMARY:Defesa do trabalho de Conclusão de Diego Garcia\, turma 2016
DESCRIPTION:AVALIAÇÃO DA VIABILIDADE DA GERAÇÃO DISTRIBUÍDA DE EN
 ERGIA ATRAVÉS DO USO FONTES RENOVÁVEIS NO INSTITUTO FEDERAL FLUMINEN
 SE CAMPUS MACAÉ
LOCATION:Campus Macaé
PRIORITY:3
TRANSP:0
END:VEVENT
END:VCALENDAR
