BEGIN:VCALENDAR
PRODID:brasil.gov.agenda
VERSION:1.0
BEGIN:VEVENT
DTSTART:20180622T170000Z
DTEND:20180622T230000Z
DCREATED:20180615T134108Z
UID:Compromisso-2b1bf0450cc647849db19794e6028292
SEQUENCE:0
LAST-MODIFIED:20180615T134108Z
SUMMARY:Funcionamento da secretaria do PPEA
PRIORITY:3
TRANSP:0
END:VEVENT
END:VCALENDAR
