BEGIN:VCALENDAR
PRODID:brasil.gov.agenda
VERSION:1.0
BEGIN:VEVENT
DTSTART:20180621T111400Z
DTEND:20180621T170000Z
DCREATED:20180615T133802Z
UID:Compromisso-0aa71f013a024f4d968e3589e20113e9
SEQUENCE:0
LAST-MODIFIED:20180615T133802Z
SUMMARY:Funcionamento da secretaria do PPEA
PRIORITY:3
TRANSP:0
END:VEVENT
END:VCALENDAR
