BEGIN:VCALENDAR
PRODID:brasil.gov.agenda
VERSION:1.0
BEGIN:VEVENT
DTSTART:20180619T130000Z
DTEND:20180619T210000Z
DCREATED:20180615T132854Z
UID:Compromisso-1ab2861d34b147b3878d0acaa7466a58
SEQUENCE:0
LAST-MODIFIED:20180615T132854Z
SUMMARY:Funcionamento da secretaria do PPEA
PRIORITY:3
TRANSP:0
END:VEVENT
END:VCALENDAR
