BEGIN:VCALENDAR
PRODID:brasil.gov.agenda
VERSION:1.0
BEGIN:VEVENT
DTSTART:20180618T120000Z
DTEND:20180618T210000Z
DCREATED:20180605T134932Z
UID:Compromisso-8f28decefe744bf09363594aeff95ebe
SEQUENCE:0
LAST-MODIFIED:20180605T134932Z
SUMMARY:Funcionamento da secretaria do PPEA
PRIORITY:3
TRANSP:0
END:VEVENT
END:VCALENDAR
