BEGIN:VCALENDAR
PRODID:brasil.gov.agenda
VERSION:1.0
BEGIN:VEVENT
DTSTART:20180615T110000Z
DTEND:20180615T180000Z
DCREATED:20180605T134813Z
UID:Compromisso-7c2637116dc64c99b499300a53b25848
SEQUENCE:0
LAST-MODIFIED:20180605T134813Z
SUMMARY:Funcionamento da secretaria do PPEA
PRIORITY:3
TRANSP:0
END:VEVENT
END:VCALENDAR
