BEGIN:VCALENDAR
PRODID:brasil.gov.agenda
VERSION:1.0
BEGIN:VEVENT
DTSTART:20180614T110000Z
DTEND:20180614T170000Z
DCREATED:20180605T134721Z
UID:Compromisso-971fe57a51414d32af86020debd130da
SEQUENCE:0
LAST-MODIFIED:20180605T134721Z
SUMMARY:Funcionamento da secretaria do PPEA
PRIORITY:3
TRANSP:0
END:VEVENT
END:VCALENDAR
