BEGIN:VCALENDAR
PRODID:brasil.gov.agenda
VERSION:1.0
BEGIN:VEVENT
DTSTART:20180613T130000Z
DTEND:20180613T210000Z
DCREATED:20180605T134620Z
UID:Compromisso-852d6cba84ec411ab394eac50796d3ea
SEQUENCE:0
LAST-MODIFIED:20180605T134620Z
SUMMARY:Funcionamento da secretaria do PPEA
PRIORITY:3
TRANSP:0
END:VEVENT
END:VCALENDAR
