BEGIN:VCALENDAR
PRODID:brasil.gov.agenda
VERSION:1.0
BEGIN:VEVENT
DTSTART:20180612T170000Z
DTEND:20180612T193000Z
DCREATED:20180605T134326Z
UID:Compromisso-f110e5fab1f34175b4fff3294b89ecb7
SEQUENCE:0
LAST-MODIFIED:20180605T134326Z
SUMMARY:Reunião do Colegiado
PRIORITY:3
TRANSP:0
END:VEVENT
END:VCALENDAR
