BEGIN:VCALENDAR
PRODID:brasil.gov.agenda
VERSION:1.0
BEGIN:VEVENT
DTSTART:20180612T120900Z
DTEND:20180612T210000Z
DCREATED:20180605T141101Z
UID:Compromisso-2652bc6469fa4e1da8a34e80516c94c9
SEQUENCE:0
LAST-MODIFIED:20180605T141101Z
SUMMARY:Recurso quanto ao gabarito das objetivas PPEA 2018
LOCATION:Protocolo do Campus Macaé
PRIORITY:3
TRANSP:0
END:VEVENT
END:VCALENDAR
