BEGIN:VCALENDAR
PRODID:brasil.gov.agenda
VERSION:1.0
BEGIN:VEVENT
DTSTART:20180611T140000Z
DTEND:20180611T210000Z
DCREATED:20180605T134216Z
UID:Compromisso-e3f6c457e1df4c0b9a13b5a69af947aa
SEQUENCE:0
LAST-MODIFIED:20180605T134512Z
SUMMARY:Funcionamento da secretaria do PPEA
PRIORITY:3
TRANSP:0
END:VEVENT
END:VCALENDAR
