BEGIN:VCALENDAR
PRODID:brasil.gov.agenda
VERSION:1.0
BEGIN:VEVENT
DTSTART:20180611T200700Z
DTEND:20180611T150700Z
DCREATED:20180605T140911Z
UID:Compromisso-09bbc802b6c94fefaf578873b81a5cc9
SEQUENCE:0
LAST-MODIFIED:20180605T140911Z
SUMMARY:Divulgação do gabarito das questões objetivas PPEA 2018
LOCATION:http://selecoes.iff.edu.br/pos-graduacao/2018/ppea
PRIORITY:3
TRANSP:0
END:VEVENT
END:VCALENDAR
