BEGIN:VCALENDAR
PRODID:brasil.gov.agenda
VERSION:1.0
BEGIN:VEVENT
DTSTART:20180610T120000Z
DTEND:20180610T200000Z
DCREATED:20180605T140156Z
UID:Compromisso-157b30a3815746ae9b131f4fd7c5fe51
SEQUENCE:0
LAST-MODIFIED:20180605T140156Z
SUMMARY:Provas do processo seletivo PPEA 2018
LOCATION:Campus Macaé
PRIORITY:3
TRANSP:0
END:VEVENT
END:VCALENDAR
