BEGIN:VCALENDAR
PRODID:brasil.gov.agenda
VERSION:1.0
BEGIN:VEVENT
DTSTART:20180608T110000Z
DTEND:20180608T180000Z
DCREATED:20180605T134101Z
UID:Compromisso-12aad744cc9c44769b40b54f93c7bae2
SEQUENCE:0
LAST-MODIFIED:20180605T134101Z
SUMMARY:Funcionamento da secretaria do PPEA
PRIORITY:3
TRANSP:0
END:VEVENT
END:VCALENDAR
