BEGIN:VCALENDAR
PRODID:brasil.gov.agenda
VERSION:1.0
BEGIN:VEVENT
DTSTART:20180607T110000Z
DTEND:20180607T170000Z
DCREATED:20180605T133930Z
UID:Compromisso-93205b8a0d3a4daea74316372994d4ed
SEQUENCE:0
LAST-MODIFIED:20180605T133930Z
SUMMARY:Funcionamento da secretaria do PPEA
PRIORITY:3
TRANSP:0
END:VEVENT
END:VCALENDAR
