BEGIN:VCALENDAR
PRODID:brasil.gov.agenda
VERSION:1.0
BEGIN:VEVENT
DTSTART:20180606T130000Z
DTEND:20180606T210000Z
DCREATED:20180605T133633Z
UID:Compromisso-727582f984d24f93842dfe35553f6d60
SEQUENCE:0
LAST-MODIFIED:20180605T133633Z
SUMMARY:Funcionamento da secretaria do PPEA
PRIORITY:3
TRANSP:0
END:VEVENT
END:VCALENDAR
