BEGIN:VCALENDAR
PRODID:brasil.gov.agenda
VERSION:1.0
BEGIN:VEVENT
DTSTART:20180605T132500Z
DTEND:20180605T181200Z
DCREATED:20180605T132610Z
UID:Compromisso-0ab326329423448382b451e6a5c83a1b
SEQUENCE:0
LAST-MODIFIED:20180605T132610Z
SUMMARY:Funcionamento da secretaria do PPEA
PRIORITY:3
TRANSP:0
END:VEVENT
END:VCALENDAR
