BEGIN:VCALENDAR
PRODID:brasil.gov.agenda
VERSION:1.0
BEGIN:VEVENT
DTSTART:20180515T170000Z
DTEND:20180515T190000Z
DCREATED:20180418T132917Z
UID:Compromisso-09fdc8c40b054f569451e577f6e73afc
SEQUENCE:0
LAST-MODIFIED:20180418T132917Z
SUMMARY:Reunião do Colegiado
DESCRIPTION:- Aprovação das normas para defesa de qualificação e d
 issertação \n- Informes sobre o processo de credenciamento de novos 
 docentes do PPEA \n- Informes sobre o processo seletivo PPEA 2018\n- I
 nformes da Pro-reitoria sobre o APCN Doutorado e sobre a execução do
  Projeto do Plano de Manejo da Lagoa de Cima em parceria com a PMC\n- 
 Informes sobre o andamento da publicação do V12 n1 do Boletim do OAA
 RL e sobre o livro Gestão Ecossistemica
LOCATION:Campus Macaé
PRIORITY:3
TRANSP:0
END:VEVENT
END:VCALENDAR
