BEGIN:VCALENDAR
PRODID:brasil.gov.agenda
VERSION:1.0
BEGIN:VEVENT
DTSTART:20180321T092900Z
DTEND:20180424T002900Z
DCREATED:20180418T133152Z
UID:Compromisso-6bbc89ac1ab14d8bbf6abcc7918d61d9
SEQUENCE:0
LAST-MODIFIED:20180418T133441Z
SUMMARY:Inscrições abertas para o Mestrado em Engenharia Ambiental
DESCRIPTION:www.selecoes.iff.edu.br/pos-graduacao/2018/ppea
LOCATION:Campus Macaé
PRIORITY:3
TRANSP:0
END:VEVENT
END:VCALENDAR
