BEGIN:VCALENDAR
PRODID:brasil.gov.agenda
VERSION:1.0
BEGIN:VEVENT
DTSTART:20180321T030000Z
DTEND:20180423T030000Z
DCREATED:20180418T155650Z
UID:Compromisso-4653c6f7198e4205836d7a4f343054d4
SEQUENCE:0
LAST-MODIFIED:20180418T155650Z
SUMMARY:Inscrições abertas para o Mestrado em Engenharia Ambiental
LOCATION:Campus Macaé
PRIORITY:3
TRANSP:0
END:VEVENT
END:VCALENDAR
