BEGIN:VCALENDAR
PRODID:brasil.gov.agenda
VERSION:1.0
BEGIN:VEVENT
DTSTART:20171117T120000Z
DTEND:20171117T200000Z
DCREATED:20171113T132511Z
UID:Compromisso-4696ac7dca924401ae2166d466efc4ed
SEQUENCE:0
LAST-MODIFIED:20171113T132511Z
SUMMARY:Funcionamento da secretaria do PPEA
PRIORITY:3
TRANSP:0
END:VEVENT
END:VCALENDAR
