BEGIN:VCALENDAR
PRODID:brasil.gov.agenda
VERSION:1.0
BEGIN:VEVENT
DTSTART:20171116T120000Z
DTEND:20171116T200000Z
DCREATED:20171113T132415Z
UID:Compromisso-1c85764691144a26867122909ddde4df
SEQUENCE:0
LAST-MODIFIED:20171113T132415Z
SUMMARY:Funcionamento da secretaria do PPEA
PRIORITY:3
TRANSP:0
END:VEVENT
END:VCALENDAR
