BEGIN:VCALENDAR
PRODID:brasil.gov.agenda
VERSION:1.0
BEGIN:VEVENT
DTSTART:20171114T120000Z
DTEND:20171114T200000Z
DCREATED:20171113T132301Z
UID:Compromisso-ad9b935bec204b6aab0524ccacdc1c55
SEQUENCE:0
LAST-MODIFIED:20171113T132301Z
SUMMARY:Funcionamento da secretaria do PPEA
PRIORITY:3
TRANSP:0
END:VEVENT
END:VCALENDAR
