BEGIN:VCALENDAR
PRODID:brasil.gov.agenda
VERSION:1.0
BEGIN:VEVENT
DTSTART:20171026T180000Z
DTEND:20171026T200100Z
DCREATED:20171017T110334Z
UID:Compromisso-621a5bf5a9124ec9bfbc2bf677083d5c
SEQUENCE:0
LAST-MODIFIED:20171017T110334Z
SUMMARY:Defesa do trabalho de conclusão de Marcelo Paixão Reis\, turma 2015.
DESCRIPTION:"USO DE TIPOS FUNCIONAIS DE PLANTAS PARA O ZONEAMENTO AMBI
 ENTAL EM UNIDADES DE CONSERVAÇÃO EM UMA ÁREA DE RESTINGA"
LOCATION:Campus Centro
PRIORITY:3
TRANSP:0
END:VEVENT
END:VCALENDAR
