BEGIN:VCALENDAR
PRODID:brasil.gov.agenda
VERSION:1.0
BEGIN:VEVENT
DTSTART:20171018T120000Z
DTEND:20171018T170000Z
DCREATED:20171016T152330Z
UID:Compromisso-da850b5218c24f42804afc75a208bd31
SEQUENCE:0
LAST-MODIFIED:20171016T152330Z
SUMMARY:Funcionamento da secretaria do PPEA
PRIORITY:3
TRANSP:0
END:VEVENT
END:VCALENDAR
