BEGIN:VCALENDAR
PRODID:brasil.gov.agenda
VERSION:1.0
BEGIN:VEVENT
DTSTART:20171017T120600Z
DTEND:20171017T170000Z
DCREATED:20171016T145656Z
UID:Compromisso-5e54930cdd4342e29da387d37faafe53
SEQUENCE:0
LAST-MODIFIED:20171016T145656Z
SUMMARY:Funcionamento da secretaria do PPEA
PRIORITY:3
TRANSP:0
END:VEVENT
END:VCALENDAR
