BEGIN:VCALENDAR
PRODID:brasil.gov.agenda
VERSION:1.0
BEGIN:VEVENT
DTSTART:20171013T120000Z
DTEND:20171013T170000Z
DCREATED:20171009T132203Z
UID:Compromisso-bbd9d61847e44372a49f8ea4bb9ade43
SEQUENCE:0
LAST-MODIFIED:20171009T132203Z
SUMMARY:Funcionamento da secretaria do PPEA
PRIORITY:3
TRANSP:0
END:VEVENT
END:VCALENDAR
