BEGIN:VCALENDAR
PRODID:brasil.gov.agenda
VERSION:1.0
BEGIN:VEVENT
DTSTART:20171011T120000Z
DTEND:20171011T170000Z
DCREATED:20171009T132104Z
UID:Compromisso-5c18da4d83044d8b9769d14a69da398f
SEQUENCE:0
LAST-MODIFIED:20171009T132104Z
SUMMARY:Funcionamento da secretaria do PPEA
PRIORITY:3
TRANSP:0
END:VEVENT
END:VCALENDAR
