BEGIN:VCALENDAR
PRODID:brasil.gov.agenda
VERSION:1.0
BEGIN:VEVENT
DTSTART:20171010T120000Z
DTEND:20171010T170000Z
DCREATED:20171009T132008Z
UID:Compromisso-81165d9058a643c59af3046d737abcaa
SEQUENCE:0
LAST-MODIFIED:20171009T132008Z
SUMMARY:Funcionamento da secretaria do PPEA
PRIORITY:3
TRANSP:0
END:VEVENT
END:VCALENDAR
