BEGIN:VCALENDAR
PRODID:brasil.gov.agenda
VERSION:1.0
BEGIN:VEVENT
DTSTART:20171006T120000Z
DTEND:20171006T170000Z
DCREATED:20171003T135457Z
UID:Compromisso-efa3fdad27f1498581c7f1e1f968aec5
SEQUENCE:0
LAST-MODIFIED:20171003T135457Z
SUMMARY:Funcionamento da secretaria do PPEA
PRIORITY:3
TRANSP:0
END:VEVENT
END:VCALENDAR
