BEGIN:VCALENDAR
PRODID:brasil.gov.agenda
VERSION:1.0
BEGIN:VEVENT
DTSTART:20171005T120000Z
DTEND:20171005T170000Z
DCREATED:20171003T135403Z
UID:Compromisso-57b5939f3f3a44e1a30873f86016d709
SEQUENCE:0
LAST-MODIFIED:20171003T135403Z
SUMMARY:Funcionamento da secretaria do PPEA
PRIORITY:3
TRANSP:0
END:VEVENT
END:VCALENDAR
